BEGIN:VCALENDAR
VERSION:2.0
PRODID:-//KITA Sternschnuppe - ECPv6.3.3.1//NONSGML v1.0//EN
CALSCALE:GREGORIAN
METHOD:PUBLISH
X-ORIGINAL-URL:https://www.sternschnuppe-niederkruechten.de
X-WR-CALDESC:Veranstaltungen für KITA Sternschnuppe
REFRESH-INTERVAL;VALUE=DURATION:PT1H
X-Robots-Tag:noindex
X-PUBLISHED-TTL:PT1H
BEGIN:VTIMEZONE
TZID:Europe/Berlin
BEGIN:DAYLIGHT
TZOFFSETFROM:+0100
TZOFFSETTO:+0200
TZNAME:CEST
DTSTART:20260329T010000
END:DAYLIGHT
BEGIN:STANDARD
TZOFFSETFROM:+0200
TZOFFSETTO:+0100
TZNAME:CET
DTSTART:20261025T010000
END:STANDARD
END:VTIMEZONE
BEGIN:VEVENT
DTSTART;TZID=Europe/Berlin:20260918T150000
DTEND;TZID=Europe/Berlin:20260918T170000
DTSTAMP:20260424T104507
CREATED:20250903T135115Z
LAST-MODIFIED:20250903T135157Z
UID:2182-1789743600-1789750800@www.sternschnuppe-niederkruechten.de
SUMMARY:Elterninformationsnachmittag für interessierte Eltern ab 26/27
DESCRIPTION:
URL:https://www.sternschnuppe-niederkruechten.de/termin/elterninformationsnachmittag-fuer-interessierte-eltern-ab-26-27/
LOCATION:KITA Sternschnuppe\, Am Kamp 21\, Niederkrüchten\, 41372\, Deutschland
END:VEVENT
END:VCALENDAR